BEGIN:VCALENDAR
VERSION:2.0
CALSCALE:GREGORIAN
PRODID:-//Diputació de Barcelona//DibaCMS//EN
BEGIN:VEVENT
UID:1853
DTSTAMP:20260422T120654
DTSTART:20200221T153000
DTEND:20200221T180000
SUMMARY:Carnestoltes 2020
LOCATION:
METHOD:PUBLISH
X-WR-CALNAME:perafita@perafita.cat
X-WR-TIMEZONE:Europe/Madrid
DESCRIPTION:Vine i participa al carnestoltes de l'Escola Heurom!

URI:https://www.perafita.cat/actualitat/agenda/carnestoltes-2020.html
CLASS:PUBLIC
END:VEVENT
END:VCALENDAR
