BEGIN:VCALENDAR
VERSION:2.0
CALSCALE:GREGORIAN
PRODID:-//Diputació de Barcelona//DibaCMS//EN
BEGIN:VEVENT
UID:1847
DTSTAMP:20260420T074249
DTSTART:20200229T000000
DTEND:20200229T000000
SUMMARY:1er Rally Perafita (Memorial Santi Tort)
LOCATION:
METHOD:PUBLISH
X-WR-CALNAME:perafita@perafita.cat
X-WR-TIMEZONE:Europe/Madrid
DESCRIPTION:Primer Rally de Perafita en memòria de Santi Tort.

URI:https://www.perafita.cat/actualitat/agenda/1er-rally-perafita-memorial-santi-tort.html
CLASS:PUBLIC
END:VEVENT
END:VCALENDAR
