BEGIN:VCALENDAR
VERSION:2.0
CALSCALE:GREGORIAN
PRODID:-//Diputació de Barcelona//DibaCMS//EN
BEGIN:VEVENT
UID:1845
DTSTAMP:20260422T102758
DTSTART:20200216T000000
DTEND:20200222T000000
SUMMARY:Setmana cultural Escola de Música i Arts del Lluçanès
LOCATION:
METHOD:PUBLISH
X-WR-CALNAME:perafita@perafita.cat
X-WR-TIMEZONE:Europe/Madrid
DESCRIPTION:Gaudeix de la setmana cultural de l'EMAL. Del 16 al 22 de febrer.

URI:https://www.perafita.cat/actualitat/agenda/setmana-cultural-escola-de-musica-i-arts-del-llucanes.html
CLASS:PUBLIC
END:VEVENT
END:VCALENDAR
