BEGIN:VCALENDAR
VERSION:2.0
CALSCALE:GREGORIAN
PRODID:-//Diputació de Barcelona//DibaCMS//EN
BEGIN:VEVENT
UID:1836
DTSTAMP:20260420T064732
DTSTART:20200209T170000
DTEND:20200209T183000
SUMMARY:Teatre de La Candelera 2020 "Del quiròfan al cim" (segona sessió)
LOCATION:
METHOD:PUBLISH
X-WR-CALNAME:perafita@perafita.cat
X-WR-TIMEZONE:Europe/Madrid
DESCRIPTION:
URI:https://www.perafita.cat/actualitat/agenda/teatre-de-la-candelera-2020-del-quirofan-al-cim-segona-sessio.html
CLASS:PUBLIC
END:VEVENT
END:VCALENDAR
