BEGIN:VCALENDAR
VERSION:2.0
CALSCALE:GREGORIAN
PRODID:-//Diputació de Barcelona//DibaCMS//EN
BEGIN:VEVENT
UID:1823
DTSTAMP:20260420T170717
DTSTART:20200131T213000
DTEND:20200131T230000
SUMMARY:Teatre Candelera 2020: "Del quiròfan al cim"
LOCATION:Pavelló Poliesportiu 
METHOD:PUBLISH
X-WR-CALNAME:perafita@perafita.cat
X-WR-TIMEZONE:Europe/Madrid
DESCRIPTION:
URI:https://www.perafita.cat/actualitat/agenda/teatre-candelera-2020-del-quirofan-al-cim.html
CLASS:PUBLIC
END:VEVENT
END:VCALENDAR
