BEGIN:VCALENDAR
VERSION:2.0
CALSCALE:GREGORIAN
PRODID:-//Diputació de Barcelona//DibaCMS//EN
BEGIN:VEVENT
UID:1816
DTSTAMP:20260420T080013
DTSTART:20191229T163000
DTEND:20200105T210000
SUMMARY:Viu el Nadal a Perafita!
LOCATION:El Niu 
METHOD:PUBLISH
X-WR-CALNAME:perafita@perafita.cat
X-WR-TIMEZONE:Europe/Madrid
DESCRIPTION:
URI:https://www.perafita.cat/actualitat/agenda/viu-el-nadal-a-perafita.html
CLASS:PUBLIC
END:VEVENT
END:VCALENDAR
