BEGIN:VCALENDAR
VERSION:2.0
CALSCALE:GREGORIAN
PRODID:-//Diputació de Barcelona//DibaCMS//EN
BEGIN:VEVENT
UID:1814
DTSTAMP:20260420T080115
DTSTART:20191221T170000
DTEND:20191221T200000
SUMMARY:Reconeixament al perafitenc Pau Tomàs Font
LOCATION:El Niu 
METHOD:PUBLISH
X-WR-CALNAME:perafita@perafita.cat
X-WR-TIMEZONE:Europe/Madrid
DESCRIPTION:
URI:https://www.perafita.cat/actualitat/agenda/reconeixament-al-perafitenc-pau-tomas-font.html
CLASS:PUBLIC
END:VEVENT
END:VCALENDAR
