BEGIN:VCALENDAR
VERSION:2.0
CALSCALE:GREGORIAN
PRODID:-//Diputació de Barcelona//DibaCMS//EN
BEGIN:VEVENT
UID:1813
DTSTAMP:20260420T183500
DTSTART:20191228T110000
DTEND:20191228T123000
SUMMARY:Valors Up Viu l'Esport
LOCATION:pavelló municipal 
METHOD:PUBLISH
X-WR-CALNAME:perafita@perafita.cat
X-WR-TIMEZONE:Europe/Madrid
DESCRIPTION:
URI:https://www.perafita.cat/actualitat/agenda/valors-up-viu-lesport.html
CLASS:PUBLIC
END:VEVENT
END:VCALENDAR
