BEGIN:VCALENDAR
VERSION:2.0
CALSCALE:GREGORIAN
PRODID:-//Diputació de Barcelona//DibaCMS//EN
BEGIN:VEVENT
UID:1809
DTSTAMP:20260420T063508
DTSTART:20191213T160000
DTEND:20191213T190000
SUMMARY:Festival de Nadal de l'Escola Heurom
LOCATION:Pavelló municipal 
METHOD:PUBLISH
X-WR-CALNAME:perafita@perafita.cat
X-WR-TIMEZONE:Europe/Madrid
DESCRIPTION:
URI:https://www.perafita.cat/actualitat/agenda/festival-de-nadal-de-lescola-heurom.html
CLASS:PUBLIC
END:VEVENT
END:VCALENDAR
