BEGIN:VCALENDAR
VERSION:2.0
CALSCALE:GREGORIAN
PRODID:-//Diputació de Barcelona//DibaCMS//EN
BEGIN:VEVENT
UID:1790
DTSTAMP:20260420T094306
DTSTART:20191031T193000
DTEND:20191031T210000
SUMMARY:Castanyada 2019
LOCATION:
METHOD:PUBLISH
X-WR-CALNAME:perafita@perafita.cat
X-WR-TIMEZONE:Europe/Madrid
DESCRIPTION:A la Plaça de Sant Antoni

URI:https://www.perafita.cat/actualitat/agenda/castanyada-2019.html
CLASS:PUBLIC
END:VEVENT
END:VCALENDAR
