BEGIN:VCALENDAR
VERSION:2.0
CALSCALE:GREGORIAN
PRODID:-//Diputació de Barcelona//DibaCMS//EN
BEGIN:VEVENT
UID:1781
DTSTAMP:20260420T044704
DTSTART:20191026T113000
DTEND:20191026T130000
SUMMARY:Celebrem 10 anys de memòria escrita
LOCATION:
METHOD:PUBLISH
X-WR-CALNAME:perafita@perafita.cat
X-WR-TIMEZONE:Europe/Madrid
DESCRIPTION:El grup d'Història i Memòria de Perafita comença la celebració dels primers 10 anys de memòria escrita. Ho faran amb la taula rodona "Seguint el rastre d'un passat col·lectiu". Serà el proper 26 d'octure a 2/4 de 12 del matí al Niu.

URI:https://www.perafita.cat/actualitat/agenda/celebrem-10-anys-de-memoria-escrita.html
CLASS:PUBLIC
END:VEVENT
END:VCALENDAR
