BEGIN:VCALENDAR
VERSION:2.0
CALSCALE:GREGORIAN
PRODID:-//Diputació de Barcelona//DibaCMS//EN
BEGIN:VEVENT
UID:1778
DTSTAMP:20260420T094532
DTSTART:20191012T170000
DTEND:20191012T180000
SUMMARY:Reunió per preparar la Candelera 2020
LOCATION:
METHOD:PUBLISH
X-WR-CALNAME:perafita@perafita.cat
X-WR-TIMEZONE:Europe/Madrid
DESCRIPTION:Parlarem de noves idees i començarem a planificar i organitzar la Candelera 2020. A la biblioteca.

URI:https://www.perafita.cat/actualitat/agenda/reunio-per-preparar-la-candelera-2020.html
CLASS:PUBLIC
END:VEVENT
END:VCALENDAR
