BEGIN:VCALENDAR
VERSION:2.0
CALSCALE:GREGORIAN
PRODID:-//Diputació de Barcelona//DibaCMS//EN
BEGIN:VEVENT
UID:1777
DTSTAMP:20260420T062705
DTSTART:20191020T120000
DTEND:20191020T140000
SUMMARY:Concert de Marco Mezquida - L'intrús a Perafita
LOCATION:
METHOD:PUBLISH
X-WR-CALNAME:perafita@perafita.cat
X-WR-TIMEZONE:Europe/Madrid
DESCRIPTION:El cicle de concerts en espais patrimonials del Lluçanès Intrús. Jazz pel forat del pany portarà el concert de Marco Mezquida a Perafita. Serà el 20 d'octubre a les 12 del migdia al jardí de les alzines. Les entrades anticipades es poden adquirir a l'ajuntament o a la web www.llucanes.cat/Intrus (6€). El concert acabarà amb un tast de productes locals amb l'associació Lluçanès a taula.

URI:https://www.perafita.cat/actualitat/agenda/concert-de-marco-mezquida-lintrus-a-perafita.html
CLASS:PUBLIC
END:VEVENT
END:VCALENDAR
