BEGIN:VCALENDAR
VERSION:2.0
CALSCALE:GREGORIAN
PRODID:-//Diputació de Barcelona//DibaCMS//EN
BEGIN:VEVENT
UID:1769
DTSTAMP:20260420T044518
DTSTART:20190906T203000
DTEND:20190906T220000
SUMMARY:Marxa dels vigatans
LOCATION:
METHOD:PUBLISH
X-WR-CALNAME:perafita@perafita.cat
X-WR-TIMEZONE:Europe/Madrid
DESCRIPTION:
URI:https://www.perafita.cat/actualitat/agenda/marxa-dels-vigatans.html
CLASS:PUBLIC
END:VEVENT
END:VCALENDAR
