BEGIN:VCALENDAR
VERSION:2.0
CALSCALE:GREGORIAN
PRODID:-//Diputació de Barcelona//DibaCMS//EN
BEGIN:VEVENT
UID:1764
DTSTAMP:20260420T044440
DTSTART:20190906T200000
DTEND:20190906T213000
SUMMARY:Xerrada: camins públics. Camins particulars. Dret de pas.
LOCATION:
METHOD:PUBLISH
X-WR-CALNAME:perafita@perafita.cat
X-WR-TIMEZONE:Europe/Madrid
DESCRIPTION:
URI:https://www.perafita.cat/actualitat/agenda/xerrada-camins-publics-camins-particulars-dret-de-pas.html
CLASS:PUBLIC
END:VEVENT
END:VCALENDAR
