BEGIN:VCALENDAR
VERSION:2.0
CALSCALE:GREGORIAN
PRODID:-//Diputació de Barcelona//DibaCMS//EN
BEGIN:VEVENT
UID:1762
DTSTAMP:20260420T094707
DTSTART:20190908T120000
DTEND:20190908T160000
SUMMARY:Diada Nacional al Lluçanès 2019. Homenatge a Jaume Puig de Perafita i els seus fills
LOCATION:
METHOD:PUBLISH
X-WR-CALNAME:perafita@perafita.cat
X-WR-TIMEZONE:Europe/Madrid
DESCRIPTION:
URI:https://www.perafita.cat/actualitat/agenda/diada-nacional-al-llucanes-2019-homenatge-a-jaume-puig-de-perafita-i-els-seus-fills.html
CLASS:PUBLIC
END:VEVENT
END:VCALENDAR
