BEGIN:VCALENDAR
VERSION:2.0
CALSCALE:GREGORIAN
PRODID:-//Diputació de Barcelona//DibaCMS//EN
BEGIN:VEVENT
UID:1760
DTSTAMP:20260420T080259
DTSTART:20190728T180000
DTEND:20190728T213000
SUMMARY:Final del 13è Campionat de Bitlles Catalanes a Perafita
LOCATION:
METHOD:PUBLISH
X-WR-CALNAME:perafita@perafita.cat
X-WR-TIMEZONE:Europe/Madrid
DESCRIPTION:
URI:https://www.perafita.cat/actualitat/agenda/final-del-13e-campionat-de-bitlles-catalanes-a-perafita.html
CLASS:PUBLIC
END:VEVENT
END:VCALENDAR
