BEGIN:VCALENDAR
VERSION:2.0
CALSCALE:GREGORIAN
PRODID:-//Diputació de Barcelona//DibaCMS//EN
BEGIN:VEVENT
UID:1759
DTSTAMP:20260420T044309
DTSTART:20190825T173000
DTEND:20190825T210000
SUMMARY:26a Trobada d'acordionistes a Perafita
LOCATION:
METHOD:PUBLISH
X-WR-CALNAME:perafita@perafita.cat
X-WR-TIMEZONE:Europe/Madrid
DESCRIPTION:
URI:https://www.perafita.cat/actualitat/agenda/26a-trobada-dacordionistes-a-perafita.html
CLASS:PUBLIC
END:VEVENT
END:VCALENDAR
