BEGIN:VCALENDAR
VERSION:2.0
CALSCALE:GREGORIAN
PRODID:-//Diputació de Barcelona//DibaCMS//EN
BEGIN:VEVENT
UID:1758
DTSTAMP:20260420T080236
DTSTART:20190727T120000
DTEND:20190727T130000
SUMMARY:Sessió informativa
LOCATION:
METHOD:PUBLISH
X-WR-CALNAME:perafita@perafita.cat
X-WR-TIMEZONE:Europe/Madrid
DESCRIPTION:En aquesta sessió informativa, l'Ajuntament explicarà les obres a l'Ajuntament Vell, l'ocupació de Cal Prats, el projecte vorera-mirador i la constitució del nou ajuntament.

URI:https://www.perafita.cat/actualitat/agenda/sessio-informativa.html
CLASS:PUBLIC
END:VEVENT
END:VCALENDAR
