BEGIN:VCALENDAR
VERSION:2.0
CALSCALE:GREGORIAN
PRODID:-//Diputació de Barcelona//DibaCMS//EN
BEGIN:VEVENT
UID:1751
DTSTAMP:20260420T062553
DTSTART:20190630T193000
DTEND:20190630T210000
SUMMARY:Havaneres i rom cremat amb Norai
LOCATION:
METHOD:PUBLISH
X-WR-CALNAME:perafita@perafita.cat
X-WR-TIMEZONE:Europe/Madrid
DESCRIPTION:
URI:https://www.perafita.cat/actualitat/agenda/havaneres-i-rom-cremat-amb-norai.html
CLASS:PUBLIC
END:VEVENT
END:VCALENDAR
