BEGIN:VCALENDAR
VERSION:2.0
CALSCALE:GREGORIAN
PRODID:-//Diputació de Barcelona//DibaCMS//EN
BEGIN:VEVENT
UID:1749
DTSTAMP:20260420T044553
DTSTART:20190630T110000
DTEND:20190630T120000
SUMMARY:Missa cantada pel Cor del Grau
LOCATION:
METHOD:PUBLISH
X-WR-CALNAME:perafita@perafita.cat
X-WR-TIMEZONE:Europe/Madrid
DESCRIPTION:
URI:https://www.perafita.cat/actualitat/agenda/missa-cantada-pel-cor-del-grau.html
CLASS:PUBLIC
END:VEVENT
END:VCALENDAR
