BEGIN:VCALENDAR
VERSION:2.0
CALSCALE:GREGORIAN
PRODID:-//Diputació de Barcelona//DibaCMS//EN
BEGIN:VEVENT
UID:1747
DTSTAMP:20260420T044340
DTSTART:20190629T230000
DTEND:20190630T030800
SUMMARY:Ball de Festa Major amb Xarop de Nit
LOCATION:
METHOD:PUBLISH
X-WR-CALNAME:perafita@perafita.cat
X-WR-TIMEZONE:Europe/Madrid
DESCRIPTION:
URI:https://www.perafita.cat/actualitat/agenda/ball-de-festa-major-amb-xarop-de-nit.html
CLASS:PUBLIC
END:VEVENT
END:VCALENDAR
