BEGIN:VCALENDAR
VERSION:2.0
CALSCALE:GREGORIAN
PRODID:-//Diputació de Barcelona//DibaCMS//EN
BEGIN:VEVENT
UID:1745
DTSTAMP:20260420T073710
DTSTART:20190629T210000
DTEND:20190629T213000
SUMMARY:Pregó de Festa Major a càrrec de Ton Baig
LOCATION:
METHOD:PUBLISH
X-WR-CALNAME:perafita@perafita.cat
X-WR-TIMEZONE:Europe/Madrid
DESCRIPTION:
URI:https://www.perafita.cat/actualitat/agenda/prego-de-festa-major-a-carrec-de-ton-baig.html
CLASS:PUBLIC
END:VEVENT
END:VCALENDAR
