BEGIN:VCALENDAR
VERSION:2.0
CALSCALE:GREGORIAN
PRODID:-//Diputació de Barcelona//DibaCMS//EN
BEGIN:VEVENT
UID:1744
DTSTAMP:20260420T073957
DTSTART:20190629T180000
DTEND:20190629T200000
SUMMARY:II Campionat de Paint-Ball
LOCATION:
METHOD:PUBLISH
X-WR-CALNAME:perafita@perafita.cat
X-WR-TIMEZONE:Europe/Madrid
DESCRIPTION:A les 6 de la tarda davant el parc infantil del carrer Major

URI:https://www.perafita.cat/actualitat/agenda/ii-campionat-de-paint-ball.html
CLASS:PUBLIC
END:VEVENT
END:VCALENDAR
