BEGIN:VCALENDAR
VERSION:2.0
CALSCALE:GREGORIAN
PRODID:-//Diputació de Barcelona//DibaCMS//EN
BEGIN:VEVENT
UID:1743
DTSTAMP:20260420T165125
DTSTART:20190629T110000
DTEND:20190629T140000
SUMMARY:Tobogan urbà gegant i esmorzar
LOCATION:
METHOD:PUBLISH
X-WR-CALNAME:perafita@perafita.cat
X-WR-TIMEZONE:Europe/Madrid
DESCRIPTION:Al carrer de la Roca

URI:https://www.perafita.cat/actualitat/agenda/tobogan-urba-gegant-i-esmorzar.html
CLASS:PUBLIC
END:VEVENT
END:VCALENDAR
