BEGIN:VCALENDAR
VERSION:2.0
CALSCALE:GREGORIAN
PRODID:-//Diputació de Barcelona//DibaCMS//EN
BEGIN:VEVENT
UID:1736
DTSTAMP:20260420T181710
DTSTART:20190627T213000
DTEND:20190627T230000
SUMMARY:Bingo FITAFESTT
LOCATION:
METHOD:PUBLISH
X-WR-CALNAME:perafita@perafita.cat
X-WR-TIMEZONE:Europe/Madrid
DESCRIPTION:A la plaça Sant Antoni

URI:https://www.perafita.cat/actualitat/agenda/bingo-fitafestt.html
CLASS:PUBLIC
END:VEVENT
END:VCALENDAR
