BEGIN:VCALENDAR
VERSION:2.0
CALSCALE:GREGORIAN
PRODID:-//Diputació de Barcelona//DibaCMS//EN
BEGIN:VEVENT
UID:1735
DTSTAMP:20260424T122746
DTSTART:20190627T200000
DTEND:20190630T210000
SUMMARY:Inauguració de l'exposició *Dona i guia i l'Himàlaia*
LOCATION:
METHOD:PUBLISH
X-WR-CALNAME:perafita@perafita.cat
X-WR-TIMEZONE:Europe/Madrid
DESCRIPTION:Amb text i fotos de Meritxell Verdaguer i Eva Freixa

URI:https://www.perafita.cat/actualitat/agenda/inauguracio-de-lexposicio-dona-i-guia-i-lhimalaia.html
CLASS:PUBLIC
END:VEVENT
END:VCALENDAR
