BEGIN:VCALENDAR
VERSION:2.0
CALSCALE:GREGORIAN
PRODID:-//Diputació de Barcelona//DibaCMS//EN
BEGIN:VEVENT
UID:1734
DTSTAMP:20260420T060537
DTSTART:20190623T180000
DTEND:20190623T190000
SUMMARY:Rebuda de la Flama del Canigó
LOCATION:
METHOD:PUBLISH
X-WR-CALNAME:perafita@perafita.cat
X-WR-TIMEZONE:Europe/Madrid
DESCRIPTION:A la plaça Sant Antoni

URI:https://www.perafita.cat/actualitat/agenda/1734-rebuda-de-la-flama-del-canigo.html
CLASS:PUBLIC
END:VEVENT
END:VCALENDAR
