BEGIN:VCALENDAR
VERSION:2.0
CALSCALE:GREGORIAN
PRODID:-//Diputació de Barcelona//DibaCMS//EN
BEGIN:VEVENT
UID:1733
DTSTAMP:20260422T102846
DTSTART:20190622T090000
DTEND:20190622T120000
SUMMARY:VI Cursa de Muntanya de Perafita
LOCATION:
METHOD:PUBLISH
X-WR-CALNAME:perafita@perafita.cat
X-WR-TIMEZONE:Europe/Madrid
DESCRIPTION:
URI:https://www.perafita.cat/actualitat/agenda/vi-cursa-de-muntanya-de-perafita.html
CLASS:PUBLIC
END:VEVENT
END:VCALENDAR
