BEGIN:VCALENDAR
VERSION:2.0
CALSCALE:GREGORIAN
PRODID:-//Diputació de Barcelona//DibaCMS//EN
BEGIN:VEVENT
UID:1722
DTSTAMP:20260420T064455
DTSTART:20190524T090000
DTEND:20190524T110000
SUMMARY:ACTIVITAT ANUL·LADA: Passegem junts a Perafita (es farà el 7 de juny)
LOCATION:
METHOD:PUBLISH
X-WR-CALNAME:perafita@perafita.cat
X-WR-TIMEZONE:Europe/Madrid
DESCRIPTION:Divendres 24 de maig de 2019, trobada a l'escola Heurom a les 9h.

Tema: les orenetes i els ocells d’ara i d’abans. Recorregut pel centre de poble, passant pel Carrer Major i esmorzar per a tots els participants al Parc.

Activitat adreçada a gent major de 60 anys.  Convidem a tota la gent gran a participar d’aquesta activitat!

URI:https://www.perafita.cat/actualitat/agenda/activitat-anullada-passegem-junts-a-perafita-es-fara-el-7-de-juny.html
CLASS:PUBLIC
END:VEVENT
END:VCALENDAR
