BEGIN:VCALENDAR
VERSION:2.0
CALSCALE:GREGORIAN
PRODID:-//Diputació de Barcelona//DibaCMS//EN
BEGIN:VEVENT
UID:1719
DTSTAMP:20260422T102336
DTSTART:20190526T080000
DTEND:20190526T140000
SUMMARY:Copa Derbi Variant - Memorial Esteve Bubé
LOCATION:
METHOD:PUBLISH
X-WR-CALNAME:perafita@perafita.cat
X-WR-TIMEZONE:Europe/Madrid
DESCRIPTION:Les inscripcions a la cursa seran de 8 a 9 del matí.

De 9.30 a 10 h, entrenaments.

De 10.30 a 13.30 h, cursa.

URI:https://www.perafita.cat/actualitat/agenda/copa-derbi-variant-memorial-esteve-bube.html
CLASS:PUBLIC
END:VEVENT
END:VCALENDAR
