BEGIN:VCALENDAR
VERSION:2.0
CALSCALE:GREGORIAN
PRODID:-//Diputació de Barcelona//DibaCMS//EN
BEGIN:VEVENT
UID:1718
DTSTAMP:20260422T102541
DTSTART:20190522T200000
DTEND:20190522T213000
SUMMARY:Taules de Debat de LaRella
LOCATION:Carrer Major, 4 baixos -edifici antic Ajuntament- 08589 Perafita
METHOD:PUBLISH
X-WR-CALNAME:perafita@perafita.cat
X-WR-TIMEZONE:Europe/Madrid
DESCRIPTION:El dimecres 22 de maig a les 8 del vespre al Niu, Taules de Debat 2019.

Amb Ramon Casals i Josep Sala (JxCAT-JUNTS), i Gabriel Rodenas i Ramon Baucells (Perafita Poble Actiu)

URI:https://www.perafita.cat/actualitat/agenda/taules-de-debat-de-larella.html
CLASS:PUBLIC
END:VEVENT
END:VCALENDAR
