BEGIN:VCALENDAR
VERSION:2.0
CALSCALE:GREGORIAN
PRODID:-//Diputació de Barcelona//DibaCMS//EN
BEGIN:VEVENT
UID:1716
DTSTAMP:20260420T064001
DTSTART:20190519T120000
DTEND:20190519T140000
SUMMARY:Presentació de la candidatura JxPerafita
LOCATION:Carrer Major, 4 baixos -edifici antic Ajuntament- 08589 Perafita
METHOD:PUBLISH
X-WR-CALNAME:perafita@perafita.cat
X-WR-TIMEZONE:Europe/Madrid
DESCRIPTION:Presentació de la candidatura de Junts per Perafita, a les 12 del migdia al Niu.

URI:https://www.perafita.cat/actualitat/agenda/presentacio-de-la-candidatura-jxperafita.html
CLASS:PUBLIC
END:VEVENT
END:VCALENDAR
