BEGIN:VCALENDAR
VERSION:2.0
CALSCALE:GREGORIAN
PRODID:-//Diputació de Barcelona//DibaCMS//EN
BEGIN:VEVENT
UID:1711
DTSTAMP:20260420T080349
DTSTART:20190501T080000
DTEND:20190501T140000
SUMMARY:2 hores de resistència
LOCATION:
METHOD:PUBLISH
X-WR-CALNAME:perafita@perafita.cat
X-WR-TIMEZONE:Europe/Madrid
DESCRIPTION:
URI:https://www.perafita.cat/actualitat/agenda/2-hores-de-resistencia.html
CLASS:PUBLIC
END:VEVENT
END:VCALENDAR
