BEGIN:VCALENDAR
VERSION:2.0
CALSCALE:GREGORIAN
PRODID:-//Diputació de Barcelona//DibaCMS//EN
BEGIN:VEVENT
UID:1704
DTSTAMP:20260420T064624
DTSTART:20190420T120000
DTEND:20190420T130000
SUMMARY:Els fantasmes del Castell de Perafita (presentació del llibre)
LOCATION:
METHOD:PUBLISH
X-WR-CALNAME:perafita@perafita.cat
X-WR-TIMEZONE:Europe/Madrid
DESCRIPTION:
URI:https://www.perafita.cat/actualitat/agenda/els-fantasmes-del-castell-de-perafita-presentacio-del-llibre.html
CLASS:PUBLIC
END:VEVENT
END:VCALENDAR
