BEGIN:VCALENDAR
VERSION:2.0
CALSCALE:GREGORIAN
PRODID:-//Diputació de Barcelona//DibaCMS//EN
BEGIN:VEVENT
UID:1700
DTSTAMP:20260420T094123
DTSTART:20190405T190000
DTEND:20190405T200000
SUMMARY:Reunió per preparar la Festa Major de Sant Pere 2019
LOCATION:
METHOD:PUBLISH
X-WR-CALNAME:perafita@perafita.cat
X-WR-TIMEZONE:Europe/Madrid
DESCRIPTION:El 5 d'abril a les 7 de la tarda, vine a la Biblioteca a parlar de la Festa Major de Sant Pere!

URI:https://www.perafita.cat/actualitat/agenda/reunio-per-preparar-la-festa-major-de-sant-pere-2019.html
CLASS:PUBLIC
END:VEVENT
END:VCALENDAR
