BEGIN:VCALENDAR
VERSION:2.0
CALSCALE:GREGORIAN
PRODID:-//Diputació de Barcelona//DibaCMS//EN
BEGIN:VEVENT
UID:1696
DTSTAMP:20260420T080504
DTSTART:20190315T000000
DTEND:20190315T000000
SUMMARY:Taller Modelatge d'argila
LOCATION:
METHOD:PUBLISH
X-WR-CALNAME:perafita@perafita.cat
X-WR-TIMEZONE:Europe/Madrid
DESCRIPTION:
URI:https://www.perafita.cat/actualitat/agenda/taller-modelatge-dargila.html
CLASS:PUBLIC
END:VEVENT
END:VCALENDAR
