BEGIN:VCALENDAR
VERSION:2.0
CALSCALE:GREGORIAN
PRODID:-//Diputació de Barcelona//DibaCMS//EN
BEGIN:VEVENT
UID:1695
DTSTAMP:20260420T183802
DTSTART:20190323T100000
DTEND:20190323T130000
SUMMARY:Obrim portes a l'Escola Heurom!
LOCATION:
METHOD:PUBLISH
X-WR-CALNAME:perafita@perafita.cat
X-WR-TIMEZONE:Europe/Madrid
DESCRIPTION:El dissabte 30 de març de 10h a 13h, podreu...
- Conèixer els espais i la manera de treballar de l’escola
- Ajudar-nos a millorar el pati (Bricolatge)
- Plantar l’Om de la Dolors
I a partir de la 13h...
Dinar-Calçotada organitzat per l’AFA 
(L'AFA informarà de com comprar els tiquets)

URI:https://www.perafita.cat/actualitat/agenda/obrim-portes-a-lescola-heurom.html
CLASS:PUBLIC
END:VEVENT
END:VCALENDAR
