BEGIN:VCALENDAR
VERSION:2.0
CALSCALE:GREGORIAN
PRODID:-//Diputació de Barcelona//DibaCMS//EN
BEGIN:VEVENT
UID:1694
DTSTAMP:20260420T094220
DTSTART:20190322T190000
DTEND:20190322T203000
SUMMARY:Club de Lectura: Por, d'Stefan Zweig
LOCATION:Corredor 1 d'Octubre 08589 Perafita
METHOD:PUBLISH
X-WR-CALNAME:perafita@perafita.cat
X-WR-TIMEZONE:Europe/Madrid
DESCRIPTION:
URI:https://www.perafita.cat/actualitat/agenda/club-de-lectura-por-dstefan-zweig.html
CLASS:PUBLIC
END:VEVENT
END:VCALENDAR
