BEGIN:VCALENDAR
VERSION:2.0
CALSCALE:GREGORIAN
PRODID:-//Diputació de Barcelona//DibaCMS//EN
BEGIN:VEVENT
UID:1689
DTSTAMP:20260420T062744
DTSTART:20190323T110000
DTEND:20190323T130000
SUMMARY:Taller de Targetes Pop-up
LOCATION:
METHOD:PUBLISH
X-WR-CALNAME:perafita@perafita.cat
X-WR-TIMEZONE:Europe/Madrid
DESCRIPTION:Taller per a totes les edats que gira entorn la creació de targetes personalitzades.

URI:https://www.perafita.cat/actualitat/agenda/taller-de-targetes-pop-up.html
CLASS:PUBLIC
END:VEVENT
END:VCALENDAR
