BEGIN:VCALENDAR
VERSION:2.0
CALSCALE:GREGORIAN
PRODID:-//Diputació de Barcelona//DibaCMS//EN
BEGIN:VEVENT
UID:1688
DTSTAMP:20260422T115522
DTSTART:20190216T170000
DTEND:20190216T190000
SUMMARY:Xocolatada solidària
LOCATION:
METHOD:PUBLISH
X-WR-CALNAME:perafita@perafita.cat
X-WR-TIMEZONE:Europe/Madrid
DESCRIPTION:Xocolatada solidària per a la investigació del càncer infantil.

El dissabte 16 de febrer a les 5 de la tarda a la plaça Sant Antoni.

Organitza: AMPA HEUROM

URI:https://www.perafita.cat/actualitat/agenda/xocolatada-solidaria.html
CLASS:PUBLIC
END:VEVENT
END:VCALENDAR
