BEGIN:VCALENDAR
VERSION:2.0
CALSCALE:GREGORIAN
PRODID:-//Diputació de Barcelona//DibaCMS//EN
BEGIN:VEVENT
UID:1686
DTSTAMP:20260420T094515
DTSTART:20190223T100000
DTEND:20190223T130000
SUMMARY:Caminada familiar 
LOCATION:
METHOD:PUBLISH
X-WR-CALNAME:perafita@perafita.cat
X-WR-TIMEZONE:Europe/Madrid
DESCRIPTION:Sortida a les 10 del matí de la plaça Sant Antoni

URI:https://www.perafita.cat/actualitat/agenda/caminada-familiar-.html
CLASS:PUBLIC
END:VEVENT
END:VCALENDAR
