BEGIN:VCALENDAR
VERSION:2.0
CALSCALE:GREGORIAN
PRODID:-//Diputació de Barcelona//DibaCMS//EN
BEGIN:VEVENT
UID:1680
DTSTAMP:20260420T080438
DTSTART:20190203T160000
DTEND:20190203T180000
SUMMARY:Curses de cavalls i rucs i "6a Cursa Local"
LOCATION:
METHOD:PUBLISH
X-WR-CALNAME:perafita@perafita.cat
X-WR-TIMEZONE:Europe/Madrid
DESCRIPTION:16h de la tarda al Camí de Can Carbó. CURSES DE CAVALLS I DE RUCSi “6a Cursa Local”.
Tot seguit, a la plaça de l’Església, Lliurament de Trofeus.

URI:https://www.perafita.cat/actualitat/agenda/curses-de-cavalls-i-rucs-i-6a-cursa-local.html
CLASS:PUBLIC
END:VEVENT
END:VCALENDAR
