BEGIN:VCALENDAR
VERSION:2.0
CALSCALE:GREGORIAN
PRODID:-//Diputació de Barcelona//DibaCMS//EN
BEGIN:VEVENT
UID:1677
DTSTAMP:20260420T094419
DTSTART:20190203T113000
DTEND:20190203T130000
SUMMARY:Passant de Carruatges i Cercavila
LOCATION:
METHOD:PUBLISH
X-WR-CALNAME:perafita@perafita.cat
X-WR-TIMEZONE:Europe/Madrid
DESCRIPTION:11.30h del matí. PASSANT DE CARRUATGES I CERCAVILA pels carrers del poble. Amb nou recorregut, més llarg i sense aturades.

URI:https://www.perafita.cat/actualitat/agenda/passant-de-carruatges-i-cercavila.html
CLASS:PUBLIC
END:VEVENT
END:VCALENDAR
