BEGIN:VCALENDAR
VERSION:2.0
CALSCALE:GREGORIAN
PRODID:-//Diputació de Barcelona//DibaCMS//EN
BEGIN:VEVENT
UID:1676
DTSTAMP:20260420T074359
DTSTART:20190203T100000
DTEND:20190203T140000
SUMMARY:Tir amb arc
LOCATION:
METHOD:PUBLISH
X-WR-CALNAME:perafita@perafita.cat
X-WR-TIMEZONE:Europe/Madrid
DESCRIPTION:De 10h del matí a 14h del migdia. TIR AMB ARC a la Casa de Colònies, a càrrec de Vall-Llobera Terra d'Arquers
 

URI:https://www.perafita.cat/actualitat/agenda/1676-tir-amb-arc.html
CLASS:PUBLIC
END:VEVENT
END:VCALENDAR
