BEGIN:VCALENDAR
VERSION:2.0
CALSCALE:GREGORIAN
PRODID:-//Diputació de Barcelona//DibaCMS//EN
BEGIN:VEVENT
UID:1674
DTSTAMP:20260420T080647
DTSTART:20190203T090000
DTEND:20190203T150000
SUMMARY:Fira de la Candelera
LOCATION:
METHOD:PUBLISH
X-WR-CALNAME:perafita@perafita.cat
X-WR-TIMEZONE:Europe/Madrid
DESCRIPTION:Durant tot el matí, FIRA DE LA CANDELERA a la plaça Sant Antoni
 

URI:https://www.perafita.cat/actualitat/agenda/fira-de-la-candelera.html
CLASS:PUBLIC
END:VEVENT
END:VCALENDAR
