BEGIN:VCALENDAR
VERSION:2.0
CALSCALE:GREGORIAN
PRODID:-//Diputació de Barcelona//DibaCMS//EN
BEGIN:VEVENT
UID:1671
DTSTAMP:20260420T062807
DTSTART:20190202T180000
DTEND:20190202T200000
SUMMARY:Concert de tarda amb els Gran Premier
LOCATION:
METHOD:PUBLISH
X-WR-CALNAME:perafita@perafita.cat
X-WR-TIMEZONE:Europe/Madrid
DESCRIPTION:18h de la tarda al Pavelló. Concert de tarda amb els Gran Premier. 
 

URI:https://www.perafita.cat/actualitat/agenda/concert-de-tarda-amb-els-gran-premier.html
CLASS:PUBLIC
END:VEVENT
END:VCALENDAR
