BEGIN:VCALENDAR
VERSION:2.0
CALSCALE:GREGORIAN
PRODID:-//Diputació de Barcelona//DibaCMS//EN
BEGIN:VEVENT
UID:1668
DTSTAMP:20260420T080159
DTSTART:20190202T150000
DTEND:20190123T000000
SUMMARY:Campionat local de botifarra
LOCATION:
METHOD:PUBLISH
X-WR-CALNAME:perafita@perafita.cat
X-WR-TIMEZONE:Europe/Madrid
DESCRIPTION:15h de la tarda al Cafè del Mig. Campionat local de botifarra.
 

URI:https://www.perafita.cat/actualitat/agenda/campionat-local-de-botifarra.html
CLASS:PUBLIC
END:VEVENT
END:VCALENDAR
