BEGIN:VCALENDAR
VERSION:2.0
CALSCALE:GREGORIAN
PRODID:-//Diputació de Barcelona//DibaCMS//EN
BEGIN:VEVENT
UID:1667
DTSTAMP:20260420T094429
DTSTART:20190202T120000
DTEND:20190123T000000
SUMMARY:Espectacle de volteig i passeig amb ponis
LOCATION:
METHOD:PUBLISH
X-WR-CALNAME:perafita@perafita.cat
X-WR-TIMEZONE:Europe/Madrid
DESCRIPTION:12h del migdia. Espectacle de volteig i passeig amb ponis a càrrec del Centre Hípic Lluçanès

URI:https://www.perafita.cat/actualitat/agenda/espectacle-de-volteig-i-passeig-amb-ponis.html
CLASS:PUBLIC
END:VEVENT
END:VCALENDAR
