BEGIN:VCALENDAR
VERSION:2.0
CALSCALE:GREGORIAN
PRODID:-//Diputació de Barcelona//DibaCMS//EN
BEGIN:VEVENT
UID:1666
DTSTAMP:20260422T101955
DTSTART:20190202T103000
DTEND:20190202T120000
SUMMARY:Beat Box Circ, espectacle infantil
LOCATION:
METHOD:PUBLISH
X-WR-CALNAME:perafita@perafita.cat
X-WR-TIMEZONE:Europe/Madrid
DESCRIPTION:10.30h del matí al Pavelló. Espectacle infantil de circ BEAT BOX CIRC amb IMPROVISTOS KRUSTY SHOW.

Més informació: http://improvistos.com/espectacles/espectacle-5/

 

URI:https://www.perafita.cat/actualitat/agenda/beat-box-circ-espectacle-infantil.html
CLASS:PUBLIC
END:VEVENT
END:VCALENDAR
